BEGIN:VCALENDAR
VERSION:2.0
PRODID:-//Elberta Church - ECPv6.15.20//NONSGML v1.0//EN
CALSCALE:GREGORIAN
METHOD:PUBLISH
X-WR-CALNAME:Elberta Church
X-ORIGINAL-URL:https://elbertachurch.com
X-WR-CALDESC:Events for Elberta Church
REFRESH-INTERVAL;VALUE=DURATION:PT1H
X-Robots-Tag:noindex
X-PUBLISHED-TTL:PT1H
BEGIN:VTIMEZONE
TZID:UTC
BEGIN:STANDARD
TZOFFSETFROM:+0000
TZOFFSETTO:+0000
TZNAME:UTC
DTSTART:20230101T000000
END:STANDARD
END:VTIMEZONE
BEGIN:VEVENT
DTSTART;TZID=UTC:20240929T180000
DTEND;TZID=UTC:20240929T190000
DTSTAMP:20260419T203206
CREATED:20240821T155133Z
LAST-MODIFIED:20240826T200703Z
UID:10000045-1727632800-1727636400@elbertachurch.com
SUMMARY:Family WORSHIP Night
DESCRIPTION:This month instead of our Family Prayer Night\, we will be having a Night of Worship! We are looking forward to gathering and singing praises to God\, focusing our hearts and eyes on Him!
URL:https://elbertachurch.com/events/family-worship-night/
LOCATION:Elberta Church\, 12891 Main St\, Elberta\, AL\, 36530\, United States
ATTACH;FMTTYPE=image/jpeg:https://elbertachurch.com/wp-content/uploads/2024/08/Family-Prayer-Night-2023-5.jpg
END:VEVENT
BEGIN:VEVENT
DTSTART;TZID=UTC:20240908T120000
DTEND;TZID=UTC:20240908T130000
DTSTAMP:20260419T203206
CREATED:20240814T202421Z
LAST-MODIFIED:20240814T202421Z
UID:10000044-1725796800-1725800400@elbertachurch.com
SUMMARY:Worship Team Auditions Pt. 2
DESCRIPTION:We are holding auditions for the Worship Team. This is a chance for us to talk with you about your music experience as well as hear your voice or listen to you play\, so we can understand your musical abilities. \nFor vocalists/singers\, we ask that you sing “Take You At Your Word” and showcase both the main melody and a harmony. \nFor instrumentalists/band members\, please play “Take You At Your Word” and demonstrate your proficiency both individually and in a group setting. Contact Chase for chord chart/sheet music. Email: chase@elbertachurch.com \nEach audition is expected to last no longer than 5-10 minutes per person. The auditions will be private\, with only Chase and two band members present.
URL:https://elbertachurch.com/events/worship-team-auditions-pt-2/
LOCATION:Elberta Church\, 12891 Main St\, Elberta\, AL\, 36530\, United States
ATTACH;FMTTYPE=image/jpeg:https://elbertachurch.com/wp-content/uploads/2024/08/Worship-Ministry-SLIDE-4.jpg
END:VEVENT
BEGIN:VEVENT
DTSTART;TZID=UTC:20240824T170000
DTEND;TZID=UTC:20240824T190000
DTSTAMP:20260419T203206
CREATED:20240722T173817Z
LAST-MODIFIED:20240723T144303Z
UID:10000041-1724518800-1724526000@elbertachurch.com
SUMMARY:Family GAME Night
DESCRIPTION:GAME TIME! Everyone bring your favorite board game or card game and a delicious dish for this night of family fun! This is completely free\, all you have to bring is yourself\, but make sure to invite your family and friends too!
URL:https://elbertachurch.com/events/family-game-night/
LOCATION:Elberta Church\, 12891 Main St\, Elberta\, AL\, 36530\, United States
ATTACH;FMTTYPE=image/jpeg:https://elbertachurch.com/wp-content/uploads/2024/07/FAMILY.jpg
END:VEVENT
BEGIN:VEVENT
DTSTART;TZID=UTC:20240814T180000
DTEND;TZID=UTC:20240814T191500
DTSTAMP:20260419T203206
CREATED:20240702T184702Z
LAST-MODIFIED:20240702T184702Z
UID:10000038-1723658400-1723662900@elbertachurch.com
SUMMARY:MidPoint RETURNS
DESCRIPTION:We are so pumped for MidPoint to return as our students head back to classes this Fall! \nTime: 6pm \nFor Adults: \nMidPoint Bible Study | 2nd Floor of the Center Building \nMidPoint Men | 2nd Floor of the Center Building \nMidPoint Women | Roadkill Cafe (25076 State St.\, Elberta\, AL 36530) \nFor Kids: \nMidPoint Kids (K — 5th Grade) | Fellowship Hall \nFor Students: \nElberta Students (6th — 12th Grade) | Worship Center
URL:https://elbertachurch.com/events/midpoint-returns/
LOCATION:Elberta Church\, 12891 Main St\, Elberta\, AL\, 36530\, United States
ATTACH;FMTTYPE=image/jpeg:https://elbertachurch.com/wp-content/uploads/2024/07/MidPoint-Graphics-Presentation-1.jpg
END:VEVENT
BEGIN:VEVENT
DTSTART;TZID=UTC:20240804T190000
DTEND;TZID=UTC:20240804T210000
DTSTAMP:20260419T203206
CREATED:20240724T190744Z
LAST-MODIFIED:20240724T190744Z
UID:10000043-1722798000-1722805200@elbertachurch.com
SUMMARY:Elberta Schools Prayer Walk
DESCRIPTION:Join with us as we gather at each school building and pray for the upcoming 2024-2025 school year! \nWe dedicate this time to pray for a good school year\, the safety of these students\, and that God would give our students opportunities this year to spread the gospel!
URL:https://elbertachurch.com/events/elberta-schools-prayer-walk/
LOCATION:Elberta Church\, 12891 Main St\, Elberta\, AL\, 36530\, United States
ATTACH;FMTTYPE=image/jpeg:https://elbertachurch.com/wp-content/uploads/2024/07/Elberta-Schools-Prayer-Walk.jpg
END:VEVENT
BEGIN:VEVENT
DTSTART;TZID=UTC:20240804T080000
DTEND;TZID=UTC:20240804T130000
DTSTAMP:20260419T203206
CREATED:20240722T174426Z
LAST-MODIFIED:20240722T174426Z
UID:10000042-1722758400-1722776400@elbertachurch.com
SUMMARY:OneBlood Blood Bus
DESCRIPTION:DONATE BLOOD! \nOneBlood Blood Bus Located behind fellowship hall! \nAll donors receive: $20 eGift card\, OneBlood Tote Bag\, and Wellness Checkup including blood pressure\, pulse\, temperature\, iron count\, and cholesterol screening. \nAppointments are encouraged\, please visit oneblood.org/donate-now and use sponsor code 65192. \nID required.
URL:https://elbertachurch.com/events/oneblood-blood-bus-2/
LOCATION:Elberta Church\, 12891 Main St\, Elberta\, AL\, 36530\, United States
ATTACH;FMTTYPE=image/jpeg:https://elbertachurch.com/wp-content/uploads/2024/07/DONATE-BLOOD-Donors-Receive.and-more-1.jpg
END:VEVENT
BEGIN:VEVENT
DTSTART;TZID=UTC:20240728T120000
DTEND;TZID=UTC:20240728T140000
DTSTAMP:20260419T203206
CREATED:20240627T190240Z
LAST-MODIFIED:20240627T190240Z
UID:10000035-1722168000-1722175200@elbertachurch.com
SUMMARY:SAM Luncheon
DESCRIPTION:Join our Senior Adult Ministry for lunch! This is completely free to you!
URL:https://elbertachurch.com/events/sam-luncheon/
LOCATION:Elberta Church\, 12891 Main St\, Elberta\, AL\, 36530\, United States
ATTACH;FMTTYPE=image/jpeg:https://elbertachurch.com/wp-content/uploads/2024/06/SAM-Graphic-1.jpg
END:VEVENT
BEGIN:VEVENT
DTSTART;TZID=UTC:20240701T180000
DTEND;TZID=UTC:20240701T200000
DTSTAMP:20260419T203206
CREATED:20240617T200144Z
LAST-MODIFIED:20240627T185857Z
UID:10000034-1719856800-1719864000@elbertachurch.com
SUMMARY:Feed Elberta Packing Party
DESCRIPTION:Join us for our second Feed Elberta packing party of summer 2024! This is a wonderful ministry that we get to be a part of!
URL:https://elbertachurch.com/events/feed-elberta-packing-party-2/
LOCATION:Elberta Church\, 12891 Main St\, Elberta\, AL\, 36530\, United States
ATTACH;FMTTYPE=image/jpeg:https://elbertachurch.com/wp-content/uploads/2024/06/FEED-ELBERTA-2.jpg
END:VEVENT
BEGIN:VEVENT
DTSTART;TZID=UTC:20240604T180000
DTEND;TZID=UTC:20240604T193000
DTSTAMP:20260419T203206
CREATED:20240531T220659Z
LAST-MODIFIED:20240531T220659Z
UID:10000027-1717524000-1717529400@elbertachurch.com
SUMMARY:Ladies Bible Study: SUMMER KICKOFF
DESCRIPTION:Join our Elberta Church Ladies as they walk through Priscilla Shirer’s book Elijah: Faith and Fire! This is a class that will meet every Tuesday night (6 PM) of the summer in the church fellowship hall\, and we are so excited to see what God is going to do through this Bible Study!
URL:https://elbertachurch.com/events/ladies-bible-study-summer-kickoff/
LOCATION:Elberta Church\, 12891 Main St\, Elberta\, AL\, 36530\, United States
ATTACH;FMTTYPE=image/jpeg:https://elbertachurch.com/wp-content/uploads/2024/05/Womens-Book-Study.jpg
END:VEVENT
BEGIN:VEVENT
DTSTART;TZID=UTC:20240601T100000
DTEND;TZID=UTC:20240601T120000
DTSTAMP:20260419T203206
CREATED:20240520T170057Z
LAST-MODIFIED:20240531T220914Z
UID:10000016-1717236000-1717243200@elbertachurch.com
SUMMARY:Boston Butt Fundraiser
DESCRIPTION:IMPORTANT CHANGE: Pickup will now be June 1st at 10 AM at Elberta Church. \nThis is the pick-up date for those that ordered a Boston Butt from an Elberta Church Student.
URL:https://elbertachurch.com/events/boston-butt-fundraiser/
LOCATION:Elberta Church\, 12891 Main St\, Elberta\, AL\, 36530\, United States
ATTACH;FMTTYPE=image/jpeg:https://elbertachurch.com/wp-content/uploads/2024/05/BOSTON-BUTT-FUNDRAISER-3.jpg
END:VEVENT
BEGIN:VEVENT
DTSTART;TZID=UTC:20240523T180000
DTEND;TZID=UTC:20240523T191500
DTSTAMP:20260419T203206
CREATED:20240514T203131Z
LAST-MODIFIED:20240520T182108Z
UID:10000014-1716487200-1716491700@elbertachurch.com
SUMMARY:Feed Elberta Packing Party
DESCRIPTION:Join us at we pack bags for our Feed Elberta ministry. This is a great way for us to pour into our community by supporting those that need help over the summer months. We will meet in the church fellowship hall at 6:00 PM!
URL:https://elbertachurch.com/events/feed-elberta-packing-party/
LOCATION:Elberta Church\, 12891 Main St\, Elberta\, AL\, 36530\, United States
ATTACH;FMTTYPE=image/jpeg:https://elbertachurch.com/wp-content/uploads/2024/05/FEED-ELBERTA.jpg
END:VEVENT
BEGIN:VEVENT
DTSTART;TZID=UTC:20240522T180000
DTEND;TZID=UTC:20240522T191500
DTSTAMP:20260419T203206
CREATED:20240514T202844Z
LAST-MODIFIED:20240520T182836Z
UID:10000012-1716400800-1716405300@elbertachurch.com
SUMMARY:Volunteer Appreciation
DESCRIPTION:  \nELBERTA CHURCH VOLUNTEERS!!! We are so grateful and thankful for all that you do and cannot wait to celebrate YOU! May 22nd at 6 PM we will be having our annual Volunteer Appreciation Night! This is a night for you to relax\, enjoy food\, have a good time\, and be served! We hope you and your family can join us!!
URL:https://elbertachurch.com/events/volunteer-appreciation/
LOCATION:Elberta Church\, 12891 Main St\, Elberta\, AL\, 36530\, United States
ATTACH;FMTTYPE=image/jpeg:https://elbertachurch.com/wp-content/uploads/2024/05/Volunteer-Appreciation.jpg
END:VEVENT
END:VCALENDAR